BEGIN:VCALENDAR
VERSION:2.0
PRODID:-//Motor i Norr - ECPv6.15.20//NONSGML v1.0//EN
CALSCALE:GREGORIAN
METHOD:PUBLISH
X-WR-CALNAME:Motor i Norr
X-ORIGINAL-URL:https://motorinorr.se
X-WR-CALDESC:Händelser för Motor i Norr
REFRESH-INTERVAL;VALUE=DURATION:PT1H
X-Robots-Tag:noindex
X-PUBLISHED-TTL:PT1H
BEGIN:VTIMEZONE
TZID:Europe/Paris
BEGIN:DAYLIGHT
TZOFFSETFROM:+0100
TZOFFSETTO:+0200
TZNAME:CEST
DTSTART:20250330T010000
END:DAYLIGHT
BEGIN:STANDARD
TZOFFSETFROM:+0200
TZOFFSETTO:+0100
TZNAME:CET
DTSTART:20251026T010000
END:STANDARD
BEGIN:DAYLIGHT
TZOFFSETFROM:+0100
TZOFFSETTO:+0200
TZNAME:CEST
DTSTART:20260329T010000
END:DAYLIGHT
BEGIN:STANDARD
TZOFFSETFROM:+0200
TZOFFSETTO:+0100
TZNAME:CET
DTSTART:20261025T010000
END:STANDARD
BEGIN:DAYLIGHT
TZOFFSETFROM:+0100
TZOFFSETTO:+0200
TZNAME:CEST
DTSTART:20270328T010000
END:DAYLIGHT
BEGIN:STANDARD
TZOFFSETFROM:+0200
TZOFFSETTO:+0100
TZNAME:CET
DTSTART:20271031T010000
END:STANDARD
END:VTIMEZONE
BEGIN:VEVENT
DTSTART;TZID=Europe/Paris:20260130T230000
DTEND;TZID=Europe/Paris:20260131T225959
DTSTAMP:20260423T193458
CREATED:20251103T112852Z
LAST-MODIFIED:20251103T112852Z
UID:3466-1769814000-1769900399@motorinorr.se
SUMMARY:Vildmarkscupen - Skotercross - Linghed
DESCRIPTION:Arrangör: Lingheds SK\nGren: Snöskoter\nArena: (tillfällig) Vildmarksbanan (Nej)\nTävlingstyp: Cross\nTävlingsstatus: Nationell/Internationell\nDatum: 2026-01-31 \nLäs mer:\nhttps://ta.svemo.se/Public/Pages/CompetitionInformation/CompetitionInformation.aspx?CompetitionId=17414
URL:https://motorinorr.se/event/vildmarkscupen-skotercross-linghed/
LOCATION:Lingheds SK\, Sweden
CATEGORIES:Skotercross
ORGANIZER;CN="Lingheds SK":MAILTO:Anders229@hotmail.com
END:VEVENT
END:VCALENDAR