BEGIN:VCALENDAR
VERSION:2.0
PRODID:-//Motor i Norr - ECPv6.15.20//NONSGML v1.0//EN
CALSCALE:GREGORIAN
METHOD:PUBLISH
X-WR-CALNAME:Motor i Norr
X-ORIGINAL-URL:https://motorinorr.se
X-WR-CALDESC:Händelser för Motor i Norr
REFRESH-INTERVAL;VALUE=DURATION:PT1H
X-Robots-Tag:noindex
X-PUBLISHED-TTL:PT1H
BEGIN:VTIMEZONE
TZID:Europe/Paris
BEGIN:DAYLIGHT
TZOFFSETFROM:+0100
TZOFFSETTO:+0200
TZNAME:CEST
DTSTART:20250330T010000
END:DAYLIGHT
BEGIN:STANDARD
TZOFFSETFROM:+0200
TZOFFSETTO:+0100
TZNAME:CET
DTSTART:20251026T010000
END:STANDARD
BEGIN:DAYLIGHT
TZOFFSETFROM:+0100
TZOFFSETTO:+0200
TZNAME:CEST
DTSTART:20260329T010000
END:DAYLIGHT
BEGIN:STANDARD
TZOFFSETFROM:+0200
TZOFFSETTO:+0100
TZNAME:CET
DTSTART:20261025T010000
END:STANDARD
BEGIN:DAYLIGHT
TZOFFSETFROM:+0100
TZOFFSETTO:+0200
TZNAME:CEST
DTSTART:20270328T010000
END:DAYLIGHT
BEGIN:STANDARD
TZOFFSETFROM:+0200
TZOFFSETTO:+0100
TZNAME:CET
DTSTART:20271031T010000
END:STANDARD
END:VTIMEZONE
BEGIN:VEVENT
DTSTART;TZID=Europe/Paris:20260508T150000
DTEND;TZID=Europe/Paris:20260508T233000
DTSTAMP:20260423T175217
CREATED:20260315T114012Z
LAST-MODIFIED:20260315T114044Z
UID:3897-1778252400-1778283000@motorinorr.se
SUMMARY:SM-FINAL I SKOTERCROSS – Storklinten
DESCRIPTION:Norra Bredåkers Motorklubb bjuder tillsammans med Storklinten in till SM-final i skotercross – en helg fylld av fart\, spänning och racing i härligt vårljus.\nHär gör eliten upp om pokalerna i en spektakulär finalhelg där vi får se racing på absolut högsta nivå. Förare från Sverige\, Norge\, Finland och USA står på startlinjen när PRO-klasserna och Ungdoms-SM ska avgöras.\nPreliminärt tidsschema:Fredag – första start ca 15.00\, tävlingar fram till cirka 20.00Lördag – dagen inleds med Ungdoms-SM och avslutas med de spektakulära PRO-klasserna\nPå området finns restaurang med fulla rättigheter och underhållning på hög nivå under hela helgen.\nTa med familj och vänner och upplev en riktig racinghelg i härlig miljö – det här vill du inte missa! Fritt inträde hela helgen.\nVälkommen till SM-finalen i skotercross i Storklinten
URL:https://motorinorr.se/event/sm-final-i-skotercross-storklinten/
LOCATION:Storklinten\, Storklinten 4\, Boden\, 961 98\, Sweden
CATEGORIES:Skotercross
END:VEVENT
END:VCALENDAR