BEGIN:VCALENDAR
VERSION:2.0
PRODID:-//Motor i Norr - ECPv6.15.20//NONSGML v1.0//EN
CALSCALE:GREGORIAN
METHOD:PUBLISH
X-ORIGINAL-URL:https://motorinorr.se
X-WR-CALDESC:Händelser för Motor i Norr
REFRESH-INTERVAL;VALUE=DURATION:PT1H
X-Robots-Tag:noindex
X-PUBLISHED-TTL:PT1H
BEGIN:VTIMEZONE
TZID:Europe/Paris
BEGIN:DAYLIGHT
TZOFFSETFROM:+0100
TZOFFSETTO:+0200
TZNAME:CEST
DTSTART:20250330T010000
END:DAYLIGHT
BEGIN:STANDARD
TZOFFSETFROM:+0200
TZOFFSETTO:+0100
TZNAME:CET
DTSTART:20251026T010000
END:STANDARD
BEGIN:DAYLIGHT
TZOFFSETFROM:+0100
TZOFFSETTO:+0200
TZNAME:CEST
DTSTART:20260329T010000
END:DAYLIGHT
BEGIN:STANDARD
TZOFFSETFROM:+0200
TZOFFSETTO:+0100
TZNAME:CET
DTSTART:20261025T010000
END:STANDARD
BEGIN:DAYLIGHT
TZOFFSETFROM:+0100
TZOFFSETTO:+0200
TZNAME:CEST
DTSTART:20270328T010000
END:DAYLIGHT
BEGIN:STANDARD
TZOFFSETFROM:+0200
TZOFFSETTO:+0100
TZNAME:CET
DTSTART:20271031T010000
END:STANDARD
END:VTIMEZONE
BEGIN:VEVENT
DTSTART;TZID=Europe/Paris:20260524T083000
DTEND;TZID=Europe/Paris:20260524T170000
DTSTAMP:20260423T175605
CREATED:20260315T114409Z
LAST-MODIFIED:20260315T114409Z
UID:3908-1779611400-1779642000@motorinorr.se
SUMMARY:Trackday Bil - Fällfors
DESCRIPTION:På Drivecenter Arenas trackdays får du möjlighet att köra vår bansträckning\, oavsett om du har stor eller liten erfarenhet av bankörning. Här kan även gatbilar köra på banan och ha kul. \n  \n\n\nDatum\nSöndag 24 maj\nOnsdag 1 juli\nSöndag 4 september \n\n\nGruppindelning\nVid dessa tillfällen erbjuds körning utifrån vana och erfarenhetsnivå. \n\nGatbil nybörjare – är för dig som är mindre van vid bankörning eller vill ta det lite lugnare.\nGatbil erfaren-  för dig som har kört förut.\nBanbil (vagnbok alt godkänd modifierad banbil)\nLegends\n\nAntalet körgrupper kan variera beroende på antalet deltagande förare. Eventuella förändringar kring körpassen får samtliga förare information om under det obligatoriska förarmötet. Drivecenters personal har mandat att flytta förare mellan grupper om det anses vara en säkerhetsrisk. \nDeltagare\nFörare min 18 år och körkort. Passagerare min. 16 år.\nFörare med SBF licens för Racing är undantagna.\nExtraförare/passagerare måste anmälas och kostar 300kr\, och då ingår försäkring. \n\n\nRegler\nVisa hänsyn\, kör med sunt förnuft och följ funktionärernas instruktioner. Ingen tävling eller tidtagning genomförs\, och drifting är inte tillåtet. Använd alltid godkänd skyddsutrustning. \n\nTrackday – Gatbilar\nTrackday – Tävlingsbil med vagnbok\nTrackday – Modifierad banbil\n\nInformation\n\nBansträckning 3 370 m\n20 minuters körpass\, rullande\nLunch ingår  (gäller vid bokning heldag)\nAmbulans med utbildad personal finns på plats.\nGodkänd skyddsutrustning krävs\, se regler ovan.\nGatbil ska vara besiktad och godkänd av Svensk Bilprovning\nTät presenning / miljömatta ska finnas under tävlingsbil när den står i depåområde.\nLjudkrav på 95 dB.\n\n  \n\n\nTidschema\n\nIncheckning              08.30-09.30\, 11.00-12.30\nFörarmöte                 09.30\, 12.30\nBanan öppnar           10.00\nLunch                        12.00-13.00\nBanan stänger           17.00 \nIncheckning och förarmöte är obligatoriskt för alla deltagare. \nPriser\nKörning\, heldag – 2000 SEK\nKörning\, eftermiddag – 1500 SEK\nExtra deltagare – 300 SEK \nTillval\nKontakta info@drivecenter.se vid hyra av depåbox. \n\n\nFaciliteter\n\nAvspolningsmöjligheter finns\nÖvernattning kan bokas\nDusch och toalett finns\nOmklädningsrum finns\nTankstation finns
URL:https://motorinorr.se/event/trackday-bil-fallfors/
LOCATION:Drivecenter Arena\, Fällforsheden 5\, Fällfors\, 93461
CATEGORIES:Trackday
END:VEVENT
BEGIN:VEVENT
DTSTART;TZID=Europe/Paris:20260524T100000
DTEND;TZID=Europe/Paris:20260524T170000
DTSTAMP:20260423T175605
CREATED:20260212T180100Z
LAST-MODIFIED:20260212T180100Z
UID:3865-1779616800-1779642000@motorinorr.se
SUMMARY:Pärlracet 2026 - Älvsbyn
DESCRIPTION:Det nu mera klassiska Pärlracet Kommer i år köras i samarbete med Lycksele MK som kör sin tävling på lördagen.\nMer info kommer här
URL:https://motorinorr.se/event/parlracet-2026-alvsbyn/
LOCATION:Högheden Motorstadium\, Högheden Motorstadium\, Älvsbyn\, 94221\, Sweden
CATEGORIES:Folkrace
END:VEVENT
END:VCALENDAR