BEGIN:VCALENDAR
VERSION:2.0
PRODID:-//Motor i Norr - ECPv6.15.20//NONSGML v1.0//EN
CALSCALE:GREGORIAN
METHOD:PUBLISH
X-WR-CALNAME:Motor i Norr
X-ORIGINAL-URL:https://motorinorr.se
X-WR-CALDESC:Händelser för Motor i Norr
REFRESH-INTERVAL;VALUE=DURATION:PT1H
X-Robots-Tag:noindex
X-PUBLISHED-TTL:PT1H
BEGIN:VTIMEZONE
TZID:Europe/Paris
BEGIN:DAYLIGHT
TZOFFSETFROM:+0100
TZOFFSETTO:+0200
TZNAME:CEST
DTSTART:20250330T010000
END:DAYLIGHT
BEGIN:STANDARD
TZOFFSETFROM:+0200
TZOFFSETTO:+0100
TZNAME:CET
DTSTART:20251026T010000
END:STANDARD
BEGIN:DAYLIGHT
TZOFFSETFROM:+0100
TZOFFSETTO:+0200
TZNAME:CEST
DTSTART:20260329T010000
END:DAYLIGHT
BEGIN:STANDARD
TZOFFSETFROM:+0200
TZOFFSETTO:+0100
TZNAME:CET
DTSTART:20261025T010000
END:STANDARD
BEGIN:DAYLIGHT
TZOFFSETFROM:+0100
TZOFFSETTO:+0200
TZNAME:CEST
DTSTART:20270328T010000
END:DAYLIGHT
BEGIN:STANDARD
TZOFFSETFROM:+0200
TZOFFSETTO:+0100
TZNAME:CET
DTSTART:20271031T010000
END:STANDARD
END:VTIMEZONE
BEGIN:VEVENT
DTSTART;TZID=Europe/Paris:20260530T000000
DTEND;TZID=Europe/Paris:20260530T235959
DTSTAMP:20260423T174843
CREATED:20260127T121721Z
LAST-MODIFIED:20260127T121721Z
UID:3781-1780099200-1780185599@motorinorr.se
SUMMARY:Motorshow - Drive Center Arena - Fällfors
DESCRIPTION:Fällfors Arena 30 maj!!! Nu skapas en familjefest på Sveriges nordligaste racingarena.Området är unikt på det sätt att på denna motorfestival är du en del av showen som förare \, utställare \, företag \, förening \, publik.\n30 maj när våren är som vackrast i västerbotten kommer entusiastfordon \, motorvänner \, tävlingsförare samlas för att under en familjedag kunna bygga en motorshow som har ambitionen att vara unik i norra Sverige.\nHemsidor motorkultur.se nrcracing.sedrivecenter.se\nBiljetter (prefekt present\, julklapp) Förare av entusiastfordon gratis övriga https://www.eventim-light.com/…/e/693553c8fde92b526b76bc55\nUtställare \, föreningar \, klubbar \, privata entusiaster för kontakt e-mail stec@stec.se
URL:https://motorinorr.se/event/motorshow-drive-center-arena-fallfors/
LOCATION:Drivecenter Arena\, Fällforsheden 5\, Fällfors\, 93461
CATEGORIES:Racing
END:VEVENT
BEGIN:VEVENT
DTSTART;TZID=Europe/Paris:20260530T110000
DTEND;TZID=Europe/Paris:20260530T150000
DTSTAMP:20260423T174843
CREATED:20260127T120406Z
LAST-MODIFIED:20260127T120452Z
UID:3767-1780138800-1780153200@motorinorr.se
SUMMARY:Keytown Meet -26 - Luleå
DESCRIPTION:Vi bjuder in er till parkeringen vid sunderbyns ishall för en härlig dag med förhoppningsvis en massa fina bilar att titta på och en trevlig tillställning \nPriser till Top 3 kommer att delas ut.\nEntre: 50:- för besökare över 15 år. Förare av utställande fordon Gratis.\nMat\, fika & kaffe finns på området.\n\nNu hoppas vi på strålande väder samt att ni alla kommer och visar upp hur mycket bilar vi har i Norrbotten  \nLäs mer
URL:https://motorinorr.se/event/keytown-meet-26-lulea/
LOCATION:Sunderbyns ishall\, Folkhögskolevägen 9\, Luleå\, 95442\, Sweden
CATEGORIES:Cruising,Träff,Utställning
END:VEVENT
END:VCALENDAR