BEGIN:VCALENDAR
VERSION:2.0
PRODID:-//Motor i Norr - ECPv6.15.20//NONSGML v1.0//EN
CALSCALE:GREGORIAN
METHOD:PUBLISH
X-ORIGINAL-URL:https://motorinorr.se
X-WR-CALDESC:Händelser för Motor i Norr
REFRESH-INTERVAL;VALUE=DURATION:PT1H
X-Robots-Tag:noindex
X-PUBLISHED-TTL:PT1H
BEGIN:VTIMEZONE
TZID:Europe/Paris
BEGIN:DAYLIGHT
TZOFFSETFROM:+0100
TZOFFSETTO:+0200
TZNAME:CEST
DTSTART:20250330T010000
END:DAYLIGHT
BEGIN:STANDARD
TZOFFSETFROM:+0200
TZOFFSETTO:+0100
TZNAME:CET
DTSTART:20251026T010000
END:STANDARD
BEGIN:DAYLIGHT
TZOFFSETFROM:+0100
TZOFFSETTO:+0200
TZNAME:CEST
DTSTART:20260329T010000
END:DAYLIGHT
BEGIN:STANDARD
TZOFFSETFROM:+0200
TZOFFSETTO:+0100
TZNAME:CET
DTSTART:20261025T010000
END:STANDARD
BEGIN:DAYLIGHT
TZOFFSETFROM:+0100
TZOFFSETTO:+0200
TZNAME:CEST
DTSTART:20270328T010000
END:DAYLIGHT
BEGIN:STANDARD
TZOFFSETFROM:+0200
TZOFFSETTO:+0100
TZNAME:CET
DTSTART:20271031T010000
END:STANDARD
END:VTIMEZONE
BEGIN:VEVENT
DTSTART;TZID=Europe/Paris:20260605T080000
DTEND;TZID=Europe/Paris:20260606T170000
DTSTAMP:20260423T192102
CREATED:20260315T114844Z
LAST-MODIFIED:20260315T114844Z
UID:3914-1780646400-1780765200@motorinorr.se
SUMMARY:Swedish Drift Championship - Fällfors
DESCRIPTION:5-6 juni 2026\nSveriges driftingelit kommer till Fällfors!\n\n\n\n\n\n\n\n\n\n\n\n\n\n\n\n\n\n\n\n\nDen 5–6 juni står Drivecenter Arena värd för deltävling 2 i Drifting-SM 2026 – en helg fylld av fart\, precision och rök från första till sista heatet. \nSveriges bästa driftingförare i Pro (SM) och Semi Pro (JSM/RM) gör upp om poäng\, podium och ära på vår snabba och tekniska bana. En bana som uppskattas av förarna – och som tidigare haft besök av Europas högsta driftingserie. \nHär handlar det om kontroll på gränsen\, millimeterprecision och fullt fokus. Publiken kommer nära – ljudet\, röken och duellerna känns på riktigt. \nSäkra bästa plats på läktaren och heja fram din favorit! \nUtöver drifting kommer det att finnas matservering\, musikunderhållning\, ölservering och andra aktiviteter på arenan.
URL:https://motorinorr.se/event/swedish-drift-championship-fallfors/
LOCATION:Drivecenter Arena\, Fällforsheden 5\, Fällfors\, 93461
CATEGORIES:Drifting
END:VEVENT
END:VCALENDAR