BEGIN:VCALENDAR
VERSION:2.0
PRODID:-//Motor i Norr - ECPv6.15.20//NONSGML v1.0//EN
CALSCALE:GREGORIAN
METHOD:PUBLISH
X-WR-CALNAME:Motor i Norr
X-ORIGINAL-URL:https://motorinorr.se
X-WR-CALDESC:Händelser för Motor i Norr
REFRESH-INTERVAL;VALUE=DURATION:PT1H
X-Robots-Tag:noindex
X-PUBLISHED-TTL:PT1H
BEGIN:VTIMEZONE
TZID:Europe/Paris
BEGIN:DAYLIGHT
TZOFFSETFROM:+0100
TZOFFSETTO:+0200
TZNAME:CEST
DTSTART:20250330T010000
END:DAYLIGHT
BEGIN:STANDARD
TZOFFSETFROM:+0200
TZOFFSETTO:+0100
TZNAME:CET
DTSTART:20251026T010000
END:STANDARD
BEGIN:DAYLIGHT
TZOFFSETFROM:+0100
TZOFFSETTO:+0200
TZNAME:CEST
DTSTART:20260329T010000
END:DAYLIGHT
BEGIN:STANDARD
TZOFFSETFROM:+0200
TZOFFSETTO:+0100
TZNAME:CET
DTSTART:20261025T010000
END:STANDARD
BEGIN:DAYLIGHT
TZOFFSETFROM:+0100
TZOFFSETTO:+0200
TZNAME:CEST
DTSTART:20270328T010000
END:DAYLIGHT
BEGIN:STANDARD
TZOFFSETFROM:+0200
TZOFFSETTO:+0100
TZNAME:CET
DTSTART:20271031T010000
END:STANDARD
END:VTIMEZONE
BEGIN:VEVENT
DTSTART;TZID=Europe/Paris:20260501T000000
DTEND;TZID=Europe/Paris:20260501T235959
DTSTAMP:20260423T102833
CREATED:20260127T122352Z
LAST-MODIFIED:20260127T122352Z
UID:3786-1777593600-1777679999@motorinorr.se
SUMMARY:Motor-Show - Örnsköldsvik
DESCRIPTION:Läs mer här
URL:https://motorinorr.se/event/motor-show-ornskoldsvik/
CATEGORIES:Dragrace,Träff,Utställning
END:VEVENT
BEGIN:VEVENT
DTSTART;TZID=Europe/Paris:20260502T000000
DTEND;TZID=Europe/Paris:20260502T235959
DTSTAMP:20260423T102833
CREATED:20260127T120839Z
LAST-MODIFIED:20260127T120839Z
UID:3774-1777680000-1777766399@motorinorr.se
SUMMARY:Motorns dag - Piteå dragway
DESCRIPTION:Mer info kommer. \nHåll utkik här.
URL:https://motorinorr.se/event/motorns-dag-pitea-dragway/
LOCATION:Långnäs – Pite Dragway\, Piteå\, 94191\, Sweden
CATEGORIES:Dragrace,Drifting,Träff,Utställning
END:VEVENT
BEGIN:VEVENT
DTSTART;TZID=Europe/Paris:20260508T150000
DTEND;TZID=Europe/Paris:20260508T233000
DTSTAMP:20260423T102833
CREATED:20260315T114012Z
LAST-MODIFIED:20260315T114044Z
UID:3897-1778252400-1778283000@motorinorr.se
SUMMARY:SM-FINAL I SKOTERCROSS – Storklinten
DESCRIPTION:Norra Bredåkers Motorklubb bjuder tillsammans med Storklinten in till SM-final i skotercross – en helg fylld av fart\, spänning och racing i härligt vårljus.\nHär gör eliten upp om pokalerna i en spektakulär finalhelg där vi får se racing på absolut högsta nivå. Förare från Sverige\, Norge\, Finland och USA står på startlinjen när PRO-klasserna och Ungdoms-SM ska avgöras.\nPreliminärt tidsschema:Fredag – första start ca 15.00\, tävlingar fram till cirka 20.00Lördag – dagen inleds med Ungdoms-SM och avslutas med de spektakulära PRO-klasserna\nPå området finns restaurang med fulla rättigheter och underhållning på hög nivå under hela helgen.\nTa med familj och vänner och upplev en riktig racinghelg i härlig miljö – det här vill du inte missa! Fritt inträde hela helgen.\nVälkommen till SM-finalen i skotercross i Storklinten
URL:https://motorinorr.se/event/sm-final-i-skotercross-storklinten/
LOCATION:Storklinten\, Storklinten 4\, Boden\, 961 98\, Sweden
CATEGORIES:Skotercross
END:VEVENT
BEGIN:VEVENT
DTSTART;TZID=Europe/Paris:20260524T083000
DTEND;TZID=Europe/Paris:20260524T170000
DTSTAMP:20260423T102833
CREATED:20260315T114409Z
LAST-MODIFIED:20260315T114409Z
UID:3908-1779611400-1779642000@motorinorr.se
SUMMARY:Trackday Bil - Fällfors
DESCRIPTION:På Drivecenter Arenas trackdays får du möjlighet att köra vår bansträckning\, oavsett om du har stor eller liten erfarenhet av bankörning. Här kan även gatbilar köra på banan och ha kul. \n  \n\n\nDatum\nSöndag 24 maj\nOnsdag 1 juli\nSöndag 4 september \n\n\nGruppindelning\nVid dessa tillfällen erbjuds körning utifrån vana och erfarenhetsnivå. \n\nGatbil nybörjare – är för dig som är mindre van vid bankörning eller vill ta det lite lugnare.\nGatbil erfaren-  för dig som har kört förut.\nBanbil (vagnbok alt godkänd modifierad banbil)\nLegends\n\nAntalet körgrupper kan variera beroende på antalet deltagande förare. Eventuella förändringar kring körpassen får samtliga förare information om under det obligatoriska förarmötet. Drivecenters personal har mandat att flytta förare mellan grupper om det anses vara en säkerhetsrisk. \nDeltagare\nFörare min 18 år och körkort. Passagerare min. 16 år.\nFörare med SBF licens för Racing är undantagna.\nExtraförare/passagerare måste anmälas och kostar 300kr\, och då ingår försäkring. \n\n\nRegler\nVisa hänsyn\, kör med sunt förnuft och följ funktionärernas instruktioner. Ingen tävling eller tidtagning genomförs\, och drifting är inte tillåtet. Använd alltid godkänd skyddsutrustning. \n\nTrackday – Gatbilar\nTrackday – Tävlingsbil med vagnbok\nTrackday – Modifierad banbil\n\nInformation\n\nBansträckning 3 370 m\n20 minuters körpass\, rullande\nLunch ingår  (gäller vid bokning heldag)\nAmbulans med utbildad personal finns på plats.\nGodkänd skyddsutrustning krävs\, se regler ovan.\nGatbil ska vara besiktad och godkänd av Svensk Bilprovning\nTät presenning / miljömatta ska finnas under tävlingsbil när den står i depåområde.\nLjudkrav på 95 dB.\n\n  \n\n\nTidschema\n\nIncheckning              08.30-09.30\, 11.00-12.30\nFörarmöte                 09.30\, 12.30\nBanan öppnar           10.00\nLunch                        12.00-13.00\nBanan stänger           17.00 \nIncheckning och förarmöte är obligatoriskt för alla deltagare. \nPriser\nKörning\, heldag – 2000 SEK\nKörning\, eftermiddag – 1500 SEK\nExtra deltagare – 300 SEK \nTillval\nKontakta info@drivecenter.se vid hyra av depåbox. \n\n\nFaciliteter\n\nAvspolningsmöjligheter finns\nÖvernattning kan bokas\nDusch och toalett finns\nOmklädningsrum finns\nTankstation finns
URL:https://motorinorr.se/event/trackday-bil-fallfors/
LOCATION:Drivecenter Arena\, Fällforsheden 5\, Fällfors\, 93461
CATEGORIES:Trackday
END:VEVENT
BEGIN:VEVENT
DTSTART;TZID=Europe/Paris:20260524T100000
DTEND;TZID=Europe/Paris:20260524T170000
DTSTAMP:20260423T102833
CREATED:20260212T180100Z
LAST-MODIFIED:20260212T180100Z
UID:3865-1779616800-1779642000@motorinorr.se
SUMMARY:Pärlracet 2026 - Älvsbyn
DESCRIPTION:Det nu mera klassiska Pärlracet Kommer i år köras i samarbete med Lycksele MK som kör sin tävling på lördagen.\nMer info kommer här
URL:https://motorinorr.se/event/parlracet-2026-alvsbyn/
LOCATION:Högheden Motorstadium\, Högheden Motorstadium\, Älvsbyn\, 94221\, Sweden
CATEGORIES:Folkrace
END:VEVENT
BEGIN:VEVENT
DTSTART;TZID=Europe/Paris:20260530T000000
DTEND;TZID=Europe/Paris:20260530T235959
DTSTAMP:20260423T102833
CREATED:20260127T121721Z
LAST-MODIFIED:20260127T121721Z
UID:3781-1780099200-1780185599@motorinorr.se
SUMMARY:Motorshow - Drive Center Arena - Fällfors
DESCRIPTION:Fällfors Arena 30 maj!!! Nu skapas en familjefest på Sveriges nordligaste racingarena.Området är unikt på det sätt att på denna motorfestival är du en del av showen som förare \, utställare \, företag \, förening \, publik.\n30 maj när våren är som vackrast i västerbotten kommer entusiastfordon \, motorvänner \, tävlingsförare samlas för att under en familjedag kunna bygga en motorshow som har ambitionen att vara unik i norra Sverige.\nHemsidor motorkultur.se nrcracing.sedrivecenter.se\nBiljetter (prefekt present\, julklapp) Förare av entusiastfordon gratis övriga https://www.eventim-light.com/…/e/693553c8fde92b526b76bc55\nUtställare \, föreningar \, klubbar \, privata entusiaster för kontakt e-mail stec@stec.se
URL:https://motorinorr.se/event/motorshow-drive-center-arena-fallfors/
LOCATION:Drivecenter Arena\, Fällforsheden 5\, Fällfors\, 93461
CATEGORIES:Racing
END:VEVENT
BEGIN:VEVENT
DTSTART;TZID=Europe/Paris:20260530T110000
DTEND;TZID=Europe/Paris:20260530T150000
DTSTAMP:20260423T102833
CREATED:20260127T120406Z
LAST-MODIFIED:20260127T120452Z
UID:3767-1780138800-1780153200@motorinorr.se
SUMMARY:Keytown Meet -26 - Luleå
DESCRIPTION:Vi bjuder in er till parkeringen vid sunderbyns ishall för en härlig dag med förhoppningsvis en massa fina bilar att titta på och en trevlig tillställning \nPriser till Top 3 kommer att delas ut.\nEntre: 50:- för besökare över 15 år. Förare av utställande fordon Gratis.\nMat\, fika & kaffe finns på området.\n\nNu hoppas vi på strålande väder samt att ni alla kommer och visar upp hur mycket bilar vi har i Norrbotten  \nLäs mer
URL:https://motorinorr.se/event/keytown-meet-26-lulea/
LOCATION:Sunderbyns ishall\, Folkhögskolevägen 9\, Luleå\, 95442\, Sweden
CATEGORIES:Cruising,Träff,Utställning
END:VEVENT
BEGIN:VEVENT
DTSTART;TZID=Europe/Paris:20260531T080000
DTEND;TZID=Europe/Paris:20260531T170000
DTSTAMP:20260423T102833
CREATED:20260315T115037Z
LAST-MODIFIED:20260315T115037Z
UID:3916-1780214400-1780246800@motorinorr.se
SUMMARY:TRACKDAY MC - Fällfors
DESCRIPTION:En dag med bankörning för dig med motorcykel. Instruktörer finns på plats för att hjälpa just dig\, oavsett om du är nybörjare eller erfaren. \n\n\nDatum\nSöndag 31 maj \n\n\nDeltagare\nVid detta tillfälle erbjuder körning i gatugrupp eller licensgrupp. \nGatugrupp: Delas in i två grupper utifrån erfarenhet och ambitionsnivå. Din motorcykel måste vara skattad\, besiktigad och minst trafikförsäkrad. Föraren måste ha ett giltigt motorcykelkörkort och egen motorcykel. Vi kör med trafikförsäkring\, och slicks eller regndäck är inte tillåtna. \nLicensgrupp: En grupp för licensierade förare. Licensgrupp har Svemo godkänd motorcykel och innehar en giltig Svemo licens. \nKörningen delas upp i olika grupper baserat på tempo och erfarenhet för att skapa en säker och rolig upplevelse för alla deltagare. \n\n\nInformation\n\nErfarna instruktörer finns på plats.\nLunch ingår i avgiften.\nGodkänd skyddsutrustning krävs.\nLjudkrav på 95 dB.\nMiljömatta ska finnas under MC när den står i depåområde.\nAmbulans med utbildad personal finns på plats.\nEgen olycksfallsförsäkring är ett krav.\n\n  \n\n\n\nTidschema\n\nIncheckning/besiktning      08.00-09.00\nFörarmöte                             09.00\nFörsta körpass                      10.00\nBanan stänger                      17.00 \nIncheckning och förarmöte är obligatoriskt.\nVi följer ett stående tidsschema och gruppindelning kommer att göras utifrån hur anmälningarna fördelar sig. \nPersonal har rätt att flytta förare mellan grupper om det bedöms nödvändigt av säkerhetsskäl. Byte av körgrupp under dagen är i regel möjligt\, i mån av plats. \nAntalet körgrupper kan variera beroende på hur många förare som deltar. Eventuella ändringar meddelas under det obligatoriska förarmötet innan körningen. \n  \n\n\nPriser\nKörning                1450 SEK\nDepåbox plats      250 SEK
URL:https://motorinorr.se/event/trackday-mc-fallfors/
LOCATION:Drivecenter Arena\, Fällforsheden 5\, Fällfors\, 93461
CATEGORIES:Trackday
END:VEVENT
BEGIN:VEVENT
DTSTART;TZID=Europe/Paris:20260605T080000
DTEND;TZID=Europe/Paris:20260606T170000
DTSTAMP:20260423T102833
CREATED:20260315T114844Z
LAST-MODIFIED:20260315T114844Z
UID:3914-1780646400-1780765200@motorinorr.se
SUMMARY:Swedish Drift Championship - Fällfors
DESCRIPTION:5-6 juni 2026\nSveriges driftingelit kommer till Fällfors!\n\n\n\n\n\n\n\n\n\n\n\n\n\n\n\n\n\n\n\n\nDen 5–6 juni står Drivecenter Arena värd för deltävling 2 i Drifting-SM 2026 – en helg fylld av fart\, precision och rök från första till sista heatet. \nSveriges bästa driftingförare i Pro (SM) och Semi Pro (JSM/RM) gör upp om poäng\, podium och ära på vår snabba och tekniska bana. En bana som uppskattas av förarna – och som tidigare haft besök av Europas högsta driftingserie. \nHär handlar det om kontroll på gränsen\, millimeterprecision och fullt fokus. Publiken kommer nära – ljudet\, röken och duellerna känns på riktigt. \nSäkra bästa plats på läktaren och heja fram din favorit! \nUtöver drifting kommer det att finnas matservering\, musikunderhållning\, ölservering och andra aktiviteter på arenan.
URL:https://motorinorr.se/event/swedish-drift-championship-fallfors/
LOCATION:Drivecenter Arena\, Fällforsheden 5\, Fällfors\, 93461
CATEGORIES:Drifting
END:VEVENT
BEGIN:VEVENT
DTSTART;TZID=Europe/Paris:20260613T000000
DTEND;TZID=Europe/Paris:20260613T235959
DTSTAMP:20260423T102833
CREATED:20260127T121056Z
LAST-MODIFIED:20260127T121056Z
UID:3776-1781308800-1781395199@motorinorr.se
SUMMARY:Northern Race Festival - Piteå dragway
DESCRIPTION:Mer info kommer. \nHåll utkik här.
URL:https://motorinorr.se/event/northern-race-festival-pitea-dragway/
LOCATION:Långnäs – Pite Dragway\, Piteå\, 94191\, Sweden
CATEGORIES:Dragrace,Drifting,Utställning
END:VEVENT
BEGIN:VEVENT
DTSTART;TZID=Europe/Paris:20260630T080000
DTEND;TZID=Europe/Paris:20260630T170000
DTSTAMP:20260423T102833
CREATED:20260315T115151Z
LAST-MODIFIED:20260315T115151Z
UID:3918-1782806400-1782838800@motorinorr.se
SUMMARY:TRACKDAY MC - Fällfors
DESCRIPTION:En dag med bankörning för dig med motorcykel. Instruktörer finns på plats för att hjälpa just dig\, oavsett om du är nybörjare eller erfaren. \n  \n\n\nDatum\nTisdag 30 juni \n\n\nDeltagare\nGatugrupp: Delas in i två grupper utifrån erfarenhet och ambitionsnivå. Din motorcykel måste vara skattad\, besiktigad och minst trafikförsäkrad. Föraren måste ha ett giltigt motorcykelkörkort och egen motorcykel. Vi kör med trafikförsäkring\, och slicks eller regndäck är inte tillåtna. \nLicensgrupp: En grupp för licensierade förare. Licensgrupp har Svemo godkänd motorcykel och innehar en giltig Svemo licens. \n\n\nInformation\n\nErfarna instruktörer finns på plats.\nLunch ingår i avgiften.\nGodkänd skyddsutrustning krävs.\nLjudkrav på 95 dB.\nMiljömatta ska finnas under MC när den står i depåområde.\nAmbulans med utbildad personal finns på plats.\nEgen olycksfallsförsäkring är ett krav.\n\n  \n\n\n\nTidschema\n\nIncheckning/besiktning      08.00-09.00\nFörarmöte                             09.00\nFörsta körpass                      10.00\nBanan stänger                      17.00 \nIncheckning och förarmöte är obligatoriskt.\nVi följer ett stående tidsschema och gruppindelning kommer att göras utifrån hur anmälningarna fördelar sig. \nPersonal har rätt att flytta förare mellan grupper om det bedöms nödvändigt av säkerhetsskäl. Byte av körgrupp under dagen är i regel möjligt\, i mån av plats. \nAntalet körgrupper kan variera beroende på hur många förare som deltar. Eventuella ändringar meddelas under det obligatoriska förarmötet innan körningen. \n  \n\n\nPriser\nKörning                1450 SEK\nDepåbox plats      250 SEK \n\n\n\n\nFaciliteter\n\nAvspolningsmöjligheter\nEl kan förbokas\nÖvernattning kan bokas\nDusch och toalett finns\nOmklädningsrum finns\nLjudkrav 95db\nTankstation finns på området
URL:https://motorinorr.se/event/trackday-mc-fallfors-2/
LOCATION:Drivecenter Arena\, Fällforsheden 5\, Fällfors\, 93461
CATEGORIES:Trackday
END:VEVENT
BEGIN:VEVENT
DTSTART;TZID=Europe/Paris:20260701T083000
DTEND;TZID=Europe/Paris:20260701T170000
DTSTAMP:20260423T102833
CREATED:20260315T114548Z
LAST-MODIFIED:20260315T114548Z
UID:3910-1782894600-1782925200@motorinorr.se
SUMMARY:Trackday Bil - Fällfors
DESCRIPTION:På Drivecenter Arenas trackdays får du möjlighet att köra vår bansträckning\, oavsett om du har stor eller liten erfarenhet av bankörning. Här kan även gatbilar köra på banan och ha kul. \n  \n\n\nDatum\nSöndag 24 maj\nOnsdag 1 juli\nSöndag 4 september \n\n\nGruppindelning\nVid dessa tillfällen erbjuds körning utifrån vana och erfarenhetsnivå. \n\nGatbil nybörjare – är för dig som är mindre van vid bankörning eller vill ta det lite lugnare.\nGatbil erfaren-  för dig som har kört förut.\nBanbil (vagnbok alt godkänd modifierad banbil)\nLegends\n\nAntalet körgrupper kan variera beroende på antalet deltagande förare. Eventuella förändringar kring körpassen får samtliga förare information om under det obligatoriska förarmötet. Drivecenters personal har mandat att flytta förare mellan grupper om det anses vara en säkerhetsrisk. \nDeltagare\nFörare min 18 år och körkort. Passagerare min. 16 år.\nFörare med SBF licens för Racing är undantagna.\nExtraförare/passagerare måste anmälas och kostar 300kr\, och då ingår försäkring. \n\n\nRegler\nVisa hänsyn\, kör med sunt förnuft och följ funktionärernas instruktioner. Ingen tävling eller tidtagning genomförs\, och drifting är inte tillåtet. Använd alltid godkänd skyddsutrustning. \n\nTrackday – Gatbilar\nTrackday – Tävlingsbil med vagnbok\nTrackday – Modifierad banbil\n\nInformation\n\nBansträckning 3 370 m\n20 minuters körpass\, rullande\nLunch ingår  (gäller vid bokning heldag)\nAmbulans med utbildad personal finns på plats.\nGodkänd skyddsutrustning krävs\, se regler ovan.\nGatbil ska vara besiktad och godkänd av Svensk Bilprovning\nTät presenning / miljömatta ska finnas under tävlingsbil när den står i depåområde.\nLjudkrav på 95 dB.\n\n  \n\n\nTidschema\n\nIncheckning              08.30-09.30\, 11.00-12.30\nFörarmöte                 09.30\, 12.30\nBanan öppnar           10.00\nLunch                        12.00-13.00\nBanan stänger           17.00 \nIncheckning och förarmöte är obligatoriskt för alla deltagare. \nPriser\nKörning\, heldag – 2000 SEK\nKörning\, eftermiddag – 1500 SEK\nExtra deltagare – 300 SEK \nTillval\nKontakta info@drivecenter.se vid hyra av depåbox. \n\n\nFaciliteter\n\nAvspolningsmöjligheter finns\nÖvernattning kan bokas\nDusch och toalett finns\nOmklädningsrum finns\nTankstation finns
URL:https://motorinorr.se/event/trackday-bil-fallfors-2/
LOCATION:Drivecenter Arena\, Fällforsheden 5\, Fällfors\, 93461
CATEGORIES:Trackday
END:VEVENT
BEGIN:VEVENT
DTSTART;TZID=Europe/Paris:20260710T080000
DTEND;TZID=Europe/Paris:20260719T170000
DTSTAMP:20260423T102833
CREATED:20260127T121354Z
LAST-MODIFIED:20260127T121354Z
UID:3778-1783670400-1784480400@motorinorr.se
SUMMARY:Midnight Race Week - Piteå Dragway
DESCRIPTION:Mer info kommer. \nHåll utkik här.
URL:https://motorinorr.se/event/midnight-race-week-pitea-dragway/
LOCATION:Långnäs – Pite Dragway\, Piteå\, 94191\, Sweden
CATEGORIES:Cruising,Dragrace,Drifting,Epa,Träff,Utställning
END:VEVENT
BEGIN:VEVENT
DTSTART;TZID=Europe/Paris:20260725T090000
DTEND;TZID=Europe/Paris:20260726T200000
DTSTAMP:20260423T102833
CREATED:20260127T122028Z
LAST-MODIFIED:20260127T122028Z
UID:3784-1784970000-1785096000@motorinorr.se
SUMMARY:Mid Sweden Motorfestival - Härnösand
DESCRIPTION:Nu är datumet klart för Mid Sweden Motorfestival. Sista helgen i Juli månad bokat 5 år framåt.Samverkan med flera föreningar&företag.Privata aktörer\, publiken\, så skapas det bra underlag för motorfestivaler som är ordning\,reda och inga fylleslag.\nDet serveras fordonsutställning Det serveras körning på banan både tävling & uppvisning. Bilstereo tävling med mätning av ljudet. Epa&A-traktorer Jenkare (naturligtvis) Familjerally på banan.Tävling snabbaste föraren i Norrland i Time-AttackSwap-Meet Sälj det du inte behöver och köp det du saknar. Grillfest på kvällen med musik\nVälkommen till Mid Sweden Motorfestival 2026. Biljetter & Bokningar www.motorfestivaler.se
URL:https://motorinorr.se/event/mid-sweden-motorfestival-harnosand/
LOCATION:Mittsverigebanan\, Tjärnsjö 100\, Härnösand\, 87191\, Sweden
CATEGORIES:Epa,Racing,Rally,Trackday,Träff,Utställning
END:VEVENT
BEGIN:VEVENT
DTSTART;TZID=Europe/Paris:20260730T000000
DTEND;TZID=Europe/Paris:20260802T235959
DTSTAMP:20260423T102833
CREATED:20260127T123032Z
LAST-MODIFIED:20260127T123032Z
UID:3789-1785369600-1785715199@motorinorr.se
SUMMARY:Scandinavian Festival of Speed 2026 - Drivecenter Arena - Fällfors
DESCRIPTION:Scandinavian Festival of Speed is striving to be the best automotive-based festival in northern Scandinavia. Drive your car on track\, enjoy live music at our aftertrack\, and watch cars drifting by from one of our 5016 grandstand seats. \nDisplay your car at the showcar area\, stay at Drivecenter’s own hotel ”Sand\,” or camp at our dedicated campsite. \nScandinavian Festival of Speed looks forward to spending an amazing weekend with fellow petrolheads and party animals! \nLäs mer och skaffa biljetter här
URL:https://motorinorr.se/event/scandinavian-festival-of-speed-2026-drivecenter-arena-fallfors/
LOCATION:Drivecenter Arena\, Fällforsheden 5\, Fällfors\, 93461
CATEGORIES:Drifting,Racing,Trackday,Träff,Utställning
END:VEVENT
BEGIN:VEVENT
DTSTART;TZID=Europe/Paris:20260815T080000
DTEND;TZID=Europe/Paris:20260816T170000
DTSTAMP:20260423T102833
CREATED:20260315T115304Z
LAST-MODIFIED:20260315T115304Z
UID:3920-1786780800-1786899600@motorinorr.se
SUMMARY:MC Trackweekend - Fällfors
DESCRIPTION:På vår trackweekend välkomnar vi nybörjare och banrävar till en helg med fylld med bankörning för dig med mc. Det spelar ingen roll om du kör plastraket\, allroundhoj\, touringjärn eller motard – alla är välkomna. \n  \n\n\nDeltagare\nVid detta tillfälle erbjuder körning i gatugrupp eller licensgrupp. \nGatugrupp: Delas in i två grupper utifrån erfarenhet och ambitionsnivå. Gatugrupp kör med trafikförsäkring. Under trackdaysen kommer Drivecenter Arena INTE att teckna en ”prova på” licens hos Svemo.  Slicks eller regndäck tillåts ej i denna grupp. \nLicensgrupp: En grupp för licensierade förare. Licensgrupp har Svemo godkänd motorcykel och innehar en giltig Svemo licens. \n\n\nInformation\n\nErfarna instruktörer finns på plats.\nGodkänd skyddsutrustning krävs.\nLjudkrav på 95 dB.\nMiljömatta ska finnas under MC när den står i depåområde.\nAmbulans med utbildad personal finns på plats.\nEgen olycksfallsförsäkring är ett krav.\n\nChecklista\nTrackday guide >> \nBoka plats\nBiljetter släpps inom kort.
URL:https://motorinorr.se/event/mc-trackweekend-fallfors/
LOCATION:Drivecenter Arena\, Fällforsheden 5\, Fällfors\, 93461
CATEGORIES:Trackday
END:VEVENT
BEGIN:VEVENT
DTSTART;TZID=Europe/Paris:20260906T083000
DTEND;TZID=Europe/Paris:20260906T170000
DTSTAMP:20260423T102833
CREATED:20260315T114703Z
LAST-MODIFIED:20260315T114703Z
UID:3912-1788683400-1788714000@motorinorr.se
SUMMARY:Trackday Bil - Fällfors
DESCRIPTION:På Drivecenter Arenas trackdays får du möjlighet att köra vår bansträckning\, oavsett om du har stor eller liten erfarenhet av bankörning. Här kan även gatbilar köra på banan och ha kul. \n  \n\n\nDatum\nSöndag 24 maj\nOnsdag 1 juli\nSöndag 4 september \n\n\nGruppindelning\nVid dessa tillfällen erbjuds körning utifrån vana och erfarenhetsnivå. \n\nGatbil nybörjare – är för dig som är mindre van vid bankörning eller vill ta det lite lugnare.\nGatbil erfaren-  för dig som har kört förut.\nBanbil (vagnbok alt godkänd modifierad banbil)\nLegends\n\nAntalet körgrupper kan variera beroende på antalet deltagande förare. Eventuella förändringar kring körpassen får samtliga förare information om under det obligatoriska förarmötet. Drivecenters personal har mandat att flytta förare mellan grupper om det anses vara en säkerhetsrisk. \nDeltagare\nFörare min 18 år och körkort. Passagerare min. 16 år.\nFörare med SBF licens för Racing är undantagna.\nExtraförare/passagerare måste anmälas och kostar 300kr\, och då ingår försäkring. \n\n\nRegler\nVisa hänsyn\, kör med sunt förnuft och följ funktionärernas instruktioner. Ingen tävling eller tidtagning genomförs\, och drifting är inte tillåtet. Använd alltid godkänd skyddsutrustning. \n\nTrackday – Gatbilar\nTrackday – Tävlingsbil med vagnbok\nTrackday – Modifierad banbil\n\nInformation\n\nBansträckning 3 370 m\n20 minuters körpass\, rullande\nLunch ingår  (gäller vid bokning heldag)\nAmbulans med utbildad personal finns på plats.\nGodkänd skyddsutrustning krävs\, se regler ovan.\nGatbil ska vara besiktad och godkänd av Svensk Bilprovning\nTät presenning / miljömatta ska finnas under tävlingsbil när den står i depåområde.\nLjudkrav på 95 dB.\n\n  \n\n\nTidschema\n\nIncheckning              08.30-09.30\, 11.00-12.30\nFörarmöte                 09.30\, 12.30\nBanan öppnar           10.00\nLunch                        12.00-13.00\nBanan stänger           17.00 \nIncheckning och förarmöte är obligatoriskt för alla deltagare. \nPriser\nKörning\, heldag – 2000 SEK\nKörning\, eftermiddag – 1500 SEK\nExtra deltagare – 300 SEK \nTillval\nKontakta info@drivecenter.se vid hyra av depåbox. \n\n\nFaciliteter\n\nAvspolningsmöjligheter finns\nÖvernattning kan bokas\nDusch och toalett finns\nOmklädningsrum finns\nTankstation finns
URL:https://motorinorr.se/event/trackday-bil-fallfors-3/
LOCATION:Drivecenter Arena\, Fällforsheden 5\, Fällfors\, 93461
CATEGORIES:Trackday
END:VEVENT
END:VCALENDAR