BEGIN:VCALENDAR
VERSION:2.0
PRODID:-//Motor i Norr - ECPv6.15.20//NONSGML v1.0//EN
CALSCALE:GREGORIAN
METHOD:PUBLISH
X-WR-CALNAME:Motor i Norr
X-ORIGINAL-URL:https://motorinorr.se
X-WR-CALDESC:Händelser för Motor i Norr
REFRESH-INTERVAL;VALUE=DURATION:PT1H
X-Robots-Tag:noindex
X-PUBLISHED-TTL:PT1H
BEGIN:VTIMEZONE
TZID:Europe/Paris
BEGIN:DAYLIGHT
TZOFFSETFROM:+0100
TZOFFSETTO:+0200
TZNAME:CEST
DTSTART:20250330T010000
END:DAYLIGHT
BEGIN:STANDARD
TZOFFSETFROM:+0200
TZOFFSETTO:+0100
TZNAME:CET
DTSTART:20251026T010000
END:STANDARD
BEGIN:DAYLIGHT
TZOFFSETFROM:+0100
TZOFFSETTO:+0200
TZNAME:CEST
DTSTART:20260329T010000
END:DAYLIGHT
BEGIN:STANDARD
TZOFFSETFROM:+0200
TZOFFSETTO:+0100
TZNAME:CET
DTSTART:20261025T010000
END:STANDARD
BEGIN:DAYLIGHT
TZOFFSETFROM:+0100
TZOFFSETTO:+0200
TZNAME:CEST
DTSTART:20270328T010000
END:DAYLIGHT
BEGIN:STANDARD
TZOFFSETFROM:+0200
TZOFFSETTO:+0100
TZNAME:CET
DTSTART:20271031T010000
END:STANDARD
END:VTIMEZONE
BEGIN:VEVENT
DTSTART;TZID=Europe/Paris:20260307T120000
DTEND;TZID=Europe/Paris:20260307T153000
DTSTAMP:20260423T132731
CREATED:20260226T055902Z
LAST-MODIFIED:20260226T055902Z
UID:3884-1772884800-1772897400@motorinorr.se
SUMMARY:Kanis HillDrag. Snöskoter - Älvsbyn
DESCRIPTION:Norrbottens Pärla MK ska göra en familje dag på Kanis Skidanläggning i Älvsbyn. Vi kör en HillDrag med snöskoter. Där tävlingsbanan är ca 150 meter lång med ungefär lika lång bromssträcka uppför berget.\nDet kommer även att bli andra former av tävlingar och jippon för alla i familjen. Med spännande priser för hela familjen.\nVi kör i något som kallas Nyckelhålet den nerfarten ligger direkt ovanför restaurangens veranda. Som publik kan man få en härlig dag ute på verandan med riktigt bra mat med kall eller varm dryck. Vilket gör det till en fantastisk dag på ”VIP läktaren”.Givetvis kan man komma racet riktigt nära genom att vandra upp i backen och stå fantastiskt bra till och njuta av racet på nära håll.Eller slappna av i någon av alla bivacker med en härlig eld i mitten och njuta medhavd fika riktigt nära racet.\nFörarna kommer till ett dukat bord med en mycket fin start med ca 50 cm hårt packad snö. Depån ligger precis i 90 grader ut från startområdet så man har full koll på racet. Samtidigt som man inväntar sin tur på upline.\nKlasserna är begränsade till motorstorlek. Trimning/justering av prestanda är tillåten i samtliga klasser.\nTurbo delar vi in i två olika klasser där 2-takt får en egen klass att husera i. Givetvis får 2-taktare även ställa upp i Trail Turbo så länge man inte har bytt turbo på sin original 2-taktare. Då blir man uppgraderad till Top Fuel. Samma gäller för 4-taktare i Trail Turbo.
URL:https://motorinorr.se/event/kanis-hilldrag-snoskoter-alvsbyn/
LOCATION:Kanis Skidbacke\, Kaniskrogen\, Älvsbyn\, 942 92\, Sweden
CATEGORIES:Dragrace Snöskoter
END:VEVENT
BEGIN:VEVENT
DTSTART;TZID=Europe/Paris:20260227T070000
DTEND;TZID=Europe/Paris:20260228T160000
DTSTAMP:20260423T132731
CREATED:20251103T111935Z
LAST-MODIFIED:20251103T112007Z
UID:3438-1772175600-1772294400@motorinorr.se
SUMMARY:Rally-SM - Östersund
DESCRIPTION:Svensk Bilsport presenterar nu en preliminär kalender för 2026 års Rally-SM. Med sex deltävlingar på snö och grus väntar en säsong som bland annat bjuder på två vinterklassiker\, final med South Swedish Rally i Olofström och ett historiskt jubileum i Vimmerby. \nPreliminär kalender Rally-SM: \n1. Sandviken – 6–7 februari (vinter) \n2. Östersund – 27–28 februari (vinter) \n3. Nyköping – 14–16 maj (sommar\, grus) \n4. Karlstad – 26–27 juni (sommar\, grus) \n5. Vimmerby – 7–8 augusti (sommar\, grus) \n6. Olofström (South Swedish Rally) – 11–12 september (sommar\, grus) \n\nhttps://www.rallysm.se/
URL:https://motorinorr.se/event/rally-sm-ostersund/
CATEGORIES:Rally
END:VEVENT
BEGIN:VEVENT
DTSTART;TZID=Europe/Paris:20260220T150000
DTEND;TZID=Europe/Paris:20260220T223000
DTSTAMP:20260423T132731
CREATED:20251219T131549Z
LAST-MODIFIED:20251219T131549Z
UID:3561-1771599600-1771626600@motorinorr.se
SUMMARY:Truck N' Meet - Boden
DESCRIPTION:Fredag den 20 februari 2026\, kl 16:00\nBodentravet\n\n\n\n\nFredag 20 feb\, 2026: 16.00 Lastbilsvisning – vi bjuder på kaffe & glögg 17.00 Föreläsning i Panorama\, 1 tr upp\, Sveriges Åkeriföretag (alla är välkomna\, oavsett förbokning) 18.00 Middagsbuffén serveras i Panorama (kräver förbokning) 18.20 Travet startar\, lopp 1 av 10 21.00 Aftertrav i totohallen – festen drar igång! 23.59 Avslutning \nAlla kan självklart gå och kika på lastbilarna under eftermiddagen/kvällen när det passar. Juryn utser topp tre placeringarna 1 – 3\, som presenteras i vinnarcirkeln ca kl 21. Förstapriset: 10 000 kr\, fina tröstpriser och pokaler. \nDet här vill ni inte missa – Truck’n Meet på Bodentravet! \nLäs mer \nAnmäl din lastbil här.
URL:https://motorinorr.se/event/truck-n-meet-boden/
LOCATION:Bodentravet\, Travbanan\, Boden\, 96174\, Sweden
CATEGORIES:Utställning
END:VEVENT
BEGIN:VEVENT
DTSTART;TZID=Europe/Paris:20260211T230000
DTEND;TZID=Europe/Paris:20260215T225959
DTSTAMP:20260423T132731
CREATED:20250906T151450Z
LAST-MODIFIED:20250906T155148Z
UID:2868-1770850800-1771196399@motorinorr.se
SUMMARY:WRC - Rally Sweden - The Red Barn Arena - Umeå
DESCRIPTION:Torsdag 12 Februari\nPå eftermiddagen samlas all uppmärksamhet på Red Barn Arena\, där det officiella programmet drar igång med aktiviteter och upplevelser för både stora och små. \nFredag 13 Februari\nUpplev spänningen på nära håll! Följ dagens sträckor på storbildsskärm med livekommentarer\, mat- och restaurangtält samt exklusiva VIP-områden. Känn adrenalinet när rallyeliten tar sig an en av våra mest ikoniska sträckor – en upplevelse du inte vill missa!\n \nLördag 14 Februari\nFölj dagens sträckor på storbildsskärm och upplev rallyt som aldrig förr. Njut av fantastisk mat och dryck i restaurangtälten och matområdet medan du ser rallyeliten ta sig an några av de mest spektakulära sträckorna. På kvällen får du dessutom chansen att se bilarna live på plats – en adrenalinfylld upplevelse som hela familjen kan njuta av.\n\nSöndag 15 Februari\nAllt avgörs nu. Söndagens finalsträckor avgör vem som tar hem segern. Den sista sträckan\, Power Stage\, ger extra mästerskapspoäng till de fem bästa förarna och avslutas vid Red Barn Arena\, där prisutdelning och podieceremoni äger rum. \nMatområdet och utställningsområdet\, med aktiviteter och utställare\, håller öppet för en rolig och innehållsrik dag för hela familjen. \nLäs mer:\nhttps://www.rallysweden.com/ \nBiljetter och merchandise:\nhttps://rallysweden.com/biljetter-och-merchandise/
URL:https://motorinorr.se/event/rally-sweden-the-red-barn-arena-umea/
LOCATION:Umeå\, Umeå\, Sweden
CATEGORIES:Rally
END:VEVENT
BEGIN:VEVENT
DTSTART;TZID=Europe/Paris:20260206T070000
DTEND;TZID=Europe/Paris:20260207T160000
DTSTAMP:20260423T132731
CREATED:20251103T111836Z
LAST-MODIFIED:20251103T111836Z
UID:3435-1770361200-1770480000@motorinorr.se
SUMMARY:Rally-SM - Sandviken
DESCRIPTION:Svensk Bilsport presenterar nu en preliminär kalender för 2026 års Rally-SM. Med sex deltävlingar på snö och grus väntar en säsong som bland annat bjuder på två vinterklassiker\, final med South Swedish Rally i Olofström och ett historiskt jubileum i Vimmerby. \nPreliminär kalender Rally-SM: \n1. Sandviken – 6–7 februari (vinter) \n2. Östersund – 27–28 februari (vinter) \n3. Nyköping – 14–16 maj (sommar\, grus) \n4. Karlstad – 26–27 juni (sommar\, grus) \n5. Vimmerby – 7–8 augusti (sommar\, grus) \n6. Olofström (South Swedish Rally) – 11–12 september (sommar\, grus) \n\nhttps://www.rallysm.se/
URL:https://motorinorr.se/event/rally-sm-sandviken/
CATEGORIES:Rally
END:VEVENT
BEGIN:VEVENT
DTSTART;TZID=Europe/Paris:20260130T230000
DTEND;TZID=Europe/Paris:20260131T225959
DTSTAMP:20260423T132731
CREATED:20251103T112852Z
LAST-MODIFIED:20251103T112852Z
UID:3466-1769814000-1769900399@motorinorr.se
SUMMARY:Vildmarkscupen - Skotercross - Linghed
DESCRIPTION:Arrangör: Lingheds SK\nGren: Snöskoter\nArena: (tillfällig) Vildmarksbanan (Nej)\nTävlingstyp: Cross\nTävlingsstatus: Nationell/Internationell\nDatum: 2026-01-31 \nLäs mer:\nhttps://ta.svemo.se/Public/Pages/CompetitionInformation/CompetitionInformation.aspx?CompetitionId=17414
URL:https://motorinorr.se/event/vildmarkscupen-skotercross-linghed/
LOCATION:Lingheds SK\, Sweden
CATEGORIES:Skotercross
ORGANIZER;CN="Lingheds SK":MAILTO:Anders229@hotmail.com
END:VEVENT
END:VCALENDAR