BEGIN:VCALENDAR
VERSION:2.0
PRODID:-//Motor i Norr - ECPv6.15.20//NONSGML v1.0//EN
CALSCALE:GREGORIAN
METHOD:PUBLISH
X-WR-CALNAME:Motor i Norr
X-ORIGINAL-URL:https://motorinorr.se
X-WR-CALDESC:Händelser för Motor i Norr
REFRESH-INTERVAL;VALUE=DURATION:PT1H
X-Robots-Tag:noindex
X-PUBLISHED-TTL:PT1H
BEGIN:VTIMEZONE
TZID:Europe/Paris
BEGIN:DAYLIGHT
TZOFFSETFROM:+0100
TZOFFSETTO:+0200
TZNAME:CEST
DTSTART:20250330T010000
END:DAYLIGHT
BEGIN:STANDARD
TZOFFSETFROM:+0200
TZOFFSETTO:+0100
TZNAME:CET
DTSTART:20251026T010000
END:STANDARD
BEGIN:DAYLIGHT
TZOFFSETFROM:+0100
TZOFFSETTO:+0200
TZNAME:CEST
DTSTART:20260329T010000
END:DAYLIGHT
BEGIN:STANDARD
TZOFFSETFROM:+0200
TZOFFSETTO:+0100
TZNAME:CET
DTSTART:20261025T010000
END:STANDARD
BEGIN:DAYLIGHT
TZOFFSETFROM:+0100
TZOFFSETTO:+0200
TZNAME:CEST
DTSTART:20270328T010000
END:DAYLIGHT
BEGIN:STANDARD
TZOFFSETFROM:+0200
TZOFFSETTO:+0100
TZNAME:CET
DTSTART:20271031T010000
END:STANDARD
END:VTIMEZONE
BEGIN:VEVENT
DTSTART;TZID=Europe/Paris:20260307T120000
DTEND;TZID=Europe/Paris:20260307T153000
DTSTAMP:20260423T162810
CREATED:20260226T055902Z
LAST-MODIFIED:20260226T055902Z
UID:3884-1772884800-1772897400@motorinorr.se
SUMMARY:Kanis HillDrag. Snöskoter - Älvsbyn
DESCRIPTION:Norrbottens Pärla MK ska göra en familje dag på Kanis Skidanläggning i Älvsbyn. Vi kör en HillDrag med snöskoter. Där tävlingsbanan är ca 150 meter lång med ungefär lika lång bromssträcka uppför berget.\nDet kommer även att bli andra former av tävlingar och jippon för alla i familjen. Med spännande priser för hela familjen.\nVi kör i något som kallas Nyckelhålet den nerfarten ligger direkt ovanför restaurangens veranda. Som publik kan man få en härlig dag ute på verandan med riktigt bra mat med kall eller varm dryck. Vilket gör det till en fantastisk dag på ”VIP läktaren”.Givetvis kan man komma racet riktigt nära genom att vandra upp i backen och stå fantastiskt bra till och njuta av racet på nära håll.Eller slappna av i någon av alla bivacker med en härlig eld i mitten och njuta medhavd fika riktigt nära racet.\nFörarna kommer till ett dukat bord med en mycket fin start med ca 50 cm hårt packad snö. Depån ligger precis i 90 grader ut från startområdet så man har full koll på racet. Samtidigt som man inväntar sin tur på upline.\nKlasserna är begränsade till motorstorlek. Trimning/justering av prestanda är tillåten i samtliga klasser.\nTurbo delar vi in i två olika klasser där 2-takt får en egen klass att husera i. Givetvis får 2-taktare även ställa upp i Trail Turbo så länge man inte har bytt turbo på sin original 2-taktare. Då blir man uppgraderad till Top Fuel. Samma gäller för 4-taktare i Trail Turbo.
URL:https://motorinorr.se/event/kanis-hilldrag-snoskoter-alvsbyn/
LOCATION:Kanis Skidbacke\, Kaniskrogen\, Älvsbyn\, 942 92\, Sweden
CATEGORIES:Dragrace Snöskoter
END:VEVENT
END:VCALENDAR